BEGIN:VCALENDAR
VERSION:2.0
PRODID: -//CMS 5.0 //NONSGML //DE
BEGIN:VEVENT
SUMMARY:Jugendgottesdienst
DESCRIPTION:<p>in <a href="https://www.nak-stuttgart-ludwigsburg.de/korn
 westheim">Kornwestheim</a></p>\n
UID:300407@www.nak-stuttgart-ludwigsburg.de
LOCATION:
CATEGORIES:Bezirk (und alle Gemeinden),Jugend
X-ORGANIZER:
STATUS:CONFIRMED
CLASS:PUBLIC
DTSTART:20260426T081500Z
DTEND:20260426T100000Z
DTSTAMP:20260420T113629Z
CREATED:20240117T091154Z
LAST-MODIFIED:20260316T093513Z
END:VEVENT
BEGIN:VEVENT
SUMMARY:Jugendchor Probe
DESCRIPTION:<p>in <a href="https://www.nak-stuttgart-ludwigsburg.de/korn
 westheim">Kornwestheim</a></p>\n
UID:303426@www.nak-stuttgart-ludwigsburg.de
LOCATION:
CATEGORIES:Bezirk (und alle Gemeinden),Musik,Jugend
X-ORGANIZER:
STATUS:CONFIRMED
CLASS:PUBLIC
DTSTART:20260508T173000Z
DTEND:20260508T190000Z
DTSTAMP:20260420T113629Z
CREATED:20240222T132447Z
LAST-MODIFIED:20260417T054804Z
END:VEVENT
BEGIN:VEVENT
SUMMARY:Trauergesprächskreis
DESCRIPTION:<p>in Waiblingen - Bitte vorher anmelden!</p>\n
UID:310776@www.nak-stuttgart-ludwigsburg.de
LOCATION:
CATEGORIES:Bezirk (und alle Gemeinden)
X-ORGANIZER:
STATUS:CONFIRMED
CLASS:PUBLIC
DTSTART:20260528T150000Z
DTEND:20260528T160000Z
DTSTAMP:20260420T113629Z
CREATED:20240515T093810Z
LAST-MODIFIED:20260417T060217Z
END:VEVENT
BEGIN:VEVENT
SUMMARY:Jugendchor-Probe
DESCRIPTION:<p>vor dem Jugendgottesdienst in <a href="https://www.nak-st
 uttgart-ludwigsburg.de/kornwestheim">Kornwestheim</a></p>\n
UID:310778@www.nak-stuttgart-ludwigsburg.de
LOCATION:
CATEGORIES:Musik,Bezirk (und alle Gemeinden),Jugend
X-ORGANIZER:
STATUS:CONFIRMED
CLASS:PUBLIC
DTSTART:20260426T070000Z
DTEND:20260426T080000Z
DTSTAMP:20260420T113629Z
CREATED:20240515T094326Z
LAST-MODIFIED:20260316T093430Z
END:VEVENT
BEGIN:VEVENT
SUMMARY:Gottesdienst Stammapostel Schneider
DESCRIPTION:<p>aus Südafrika, Bildübertragung in die jeweiligen Übert
 ragungsgemeinden</p>\n
UID:318310@www.nak-stuttgart-ludwigsburg.de
LOCATION:
CATEGORIES:Bezirk (und alle Gemeinden)
X-ORGANIZER:
STATUS:CONFIRMED
CLASS:PUBLIC
DTSTART:20260524T080000Z
DTEND:20260524T100000Z
DTSTAMP:20260420T113629Z
CREATED:20240819T102813Z
LAST-MODIFIED:20260417T060131Z
END:VEVENT
BEGIN:VEVENT
SUMMARY:Trauergesprächskreis
DESCRIPTION:<p>in <a href="http://www.nak-stuttgart-fellbach.de/fellbach
 ">Fellbach</a>.&nbsp;Bitte vorher anmelden!</p>\n
UID:330903@www.nak-stuttgart-ludwigsburg.de
LOCATION:
CATEGORIES:Bezirk (und alle Gemeinden)
X-ORGANIZER:
STATUS:CONFIRMED
CLASS:PUBLIC
DTSTART:20260423T150000Z
DTEND:20260423T160000Z
DTSTAMP:20260420T113629Z
CREATED:20250218T101956Z
LAST-MODIFIED:20260316T093126Z
END:VEVENT
BEGIN:VEVENT
SUMMARY:Religions-Unterricht
DESCRIPTION:<p>für den ganzen Bezirk in <a href="https://www.nak-stuttg
 art-ludwigsburg.de/ludwigsburg">Ludwigsburg</a></p>\n
UID:336041@www.nak-stuttgart-ludwigsburg.de
LOCATION:
CATEGORIES:Bezirk (und alle Gemeinden)
X-ORGANIZER:
STATUS:CONFIRMED
CLASS:PUBLIC
DTSTART:20260418T080000Z
DTEND:20260418T100000Z
DTSTAMP:20260420T113629Z
CREATED:20250417T063855Z
LAST-MODIFIED:20260316T093021Z
END:VEVENT
BEGIN:VEVENT
SUMMARY:Bezirksorchesterprobe
DESCRIPTION:<p>in <a href="https://www.nak-stuttgart-ludwigsburg.de/korn
 westheim">Kornwestheim</a></p>\n
UID:339841@www.nak-stuttgart-ludwigsburg.de
LOCATION:
CATEGORIES:Bezirk (und alle Gemeinden),Musik
X-ORGANIZER:
STATUS:CONFIRMED
CLASS:PUBLIC
DTSTART:20260327T183000Z
DTEND:20260327T200000Z
DTSTAMP:20260420T113629Z
CREATED:20250610T095011Z
LAST-MODIFIED:20260216T101953Z
END:VEVENT
BEGIN:VEVENT
SUMMARY:Bezirksorchesterprobe
DESCRIPTION:<p>in&nbsp; <a href="https://www.nak-stuttgart-ludwigsburg.d
 e/steinheim-murr">Steinheim</a></p>\n
UID:339842@www.nak-stuttgart-ludwigsburg.de
LOCATION:
CATEGORIES:Musik,Bezirk (und alle Gemeinden)
X-ORGANIZER:
STATUS:CONFIRMED
CLASS:PUBLIC
DTSTART:20260417T173000Z
DTEND:20260417T190000Z
DTSTAMP:20260420T113629Z
CREATED:20250610T095223Z
LAST-MODIFIED:20260316T092918Z
END:VEVENT
BEGIN:VEVENT
SUMMARY:Kammerchor-Probe
DESCRIPTION:<p>in <a href="https://www.nak-stuttgart-ludwigsburg.de/stut
 tgart-zuffenhausen">Zuffenhausen</a></p>\n
UID:347311@www.nak-stuttgart-ludwigsburg.de
LOCATION:
CATEGORIES:Bezirk (und alle Gemeinden),Musik
X-ORGANIZER:
STATUS:CONFIRMED
CLASS:PUBLIC
DTSTART:20260425T073000Z
DTEND:20260425T123000Z
DTSTAMP:20260420T113629Z
CREATED:20250923T085345Z
LAST-MODIFIED:20260316T093313Z
END:VEVENT
BEGIN:VEVENT
SUMMARY:Kammerchor-Probe
DESCRIPTION:<p>in <a href="https://www.nak-stuttgart-ludwigsburg.de/stut
 tgart-zuffenhausen">Zuffenhausen</a></p>\n
UID:347313@www.nak-stuttgart-ludwigsburg.de
LOCATION:
CATEGORIES:Musik,Bezirk (und alle Gemeinden)
X-ORGANIZER:
STATUS:CONFIRMED
CLASS:PUBLIC
DTSTART:20260413T173000Z
DTEND:20260413T190000Z
DTSTAMP:20260420T113629Z
CREATED:20250923T085744Z
LAST-MODIFIED:20260316T092744Z
END:VEVENT
BEGIN:VEVENT
SUMMARY:Kammerchor-Probe
DESCRIPTION:<p>in <a href="https://www.nak-stuttgart-ludwigsburg.de/stut
 tgart-zuffenhausen">Zuffenhausen</a></p>\n
UID:347317@www.nak-stuttgart-ludwigsburg.de
LOCATION:
CATEGORIES:Musik,Bezirk (und alle Gemeinden)
X-ORGANIZER:
STATUS:CONFIRMED
CLASS:PUBLIC
DTSTART:20260420T173000Z
DTEND:20260420T190000Z
DTSTAMP:20260420T113629Z
CREATED:20250923T090251Z
LAST-MODIFIED:20260316T093101Z
END:VEVENT
BEGIN:VEVENT
SUMMARY:Bezirksorchester Probe
DESCRIPTION:<p>in <a href="https://www.nak-stuttgart-ludwigsburg.de/korn
 westheim">Kornwestheim</a>&nbsp;</p>\n
UID:347321@www.nak-stuttgart-ludwigsburg.de
LOCATION:
CATEGORIES:Bezirk (und alle Gemeinden),Musik
X-ORGANIZER:
STATUS:CONFIRMED
CLASS:PUBLIC
DTSTART:20260320T183000Z
DTEND:20260320T200000Z
DTSTAMP:20260420T113629Z
CREATED:20250923T091203Z
LAST-MODIFIED:20260216T101100Z
END:VEVENT
BEGIN:VEVENT
SUMMARY:Jugendchor-Probe
DESCRIPTION:<p>in <a href="https://www.nak-stuttgart-ludwigsburg.de/korn
 westheim">Kornwestheim</a></p>\n
UID:347324@www.nak-stuttgart-ludwigsburg.de
LOCATION:
CATEGORIES:Jugend,Musik,Bezirk (und alle Gemeinden)
X-ORGANIZER:
STATUS:CONFIRMED
CLASS:PUBLIC
DTSTART:20260424T173000Z
DTEND:20260424T190000Z
DTSTAMP:20260420T113629Z
CREATED:20250923T091455Z
LAST-MODIFIED:20260316T093226Z
END:VEVENT
BEGIN:VEVENT
SUMMARY:Kammerchor-Probe
DESCRIPTION:<p>in <a href="https://www.nak-stuttgart-ludwigsburg.de/stut
 tgart-zuffenhausen">Zuffenhausen</a></p>\n
UID:347327@www.nak-stuttgart-ludwigsburg.de
LOCATION:
CATEGORIES:Musik,Bezirk (und alle Gemeinden)
X-ORGANIZER:
STATUS:CONFIRMED
CLASS:PUBLIC
DTSTART:20260504T173000Z
DTEND:20260504T190000Z
DTSTAMP:20260420T113629Z
CREATED:20250923T091747Z
LAST-MODIFIED:20260417T054400Z
END:VEVENT
BEGIN:VEVENT
SUMMARY:Konfirmanden-Unterricht
DESCRIPTION:<p>für den ganzen Bezirk in <a href="https://www.nak-stuttg
 art-ludwigsburg.de/freiberg-am-neckar">Freiberg</a></p>\n
UID:349936@www.nak-stuttgart-ludwigsburg.de
LOCATION:
CATEGORIES:Bezirk (und alle Gemeinden)
X-ORGANIZER:
STATUS:CONFIRMED
CLASS:PUBLIC
DTSTART:20260321T083000Z
DTEND:20260321T110000Z
DTSTAMP:20260420T113629Z
CREATED:20251016T113217Z
LAST-MODIFIED:20260216T101215Z
END:VEVENT
BEGIN:VEVENT
SUMMARY:Konzert Regionalchor
DESCRIPTION:<p>Oratorium "Paulus" in <a href="https://www.nak-stuttgart-
 fellbach.de/stuttgart-ost">Stuttgart-Ost</a></p>\n
UID:359187@www.nak-stuttgart-ludwigsburg.de
LOCATION:
CATEGORIES:Bezirk (und alle Gemeinden),Musik
X-ORGANIZER:
STATUS:CONFIRMED
CLASS:PUBLIC
DTSTART:20260321T170000Z
DTEND:20260321T190000Z
DTSTAMP:20260420T113629Z
CREATED:20260216T101224Z
LAST-MODIFIED:20260216T101351Z
END:VEVENT
BEGIN:VEVENT
SUMMARY:Konzert Regionalchor
DESCRIPTION:<p>Oratorium "Paulus" in Reutlingen</p>\n
UID:359188@www.nak-stuttgart-ludwigsburg.de
LOCATION:
CATEGORIES:Bezirk (und alle Gemeinden),Musik
X-ORGANIZER:
STATUS:CONFIRMED
CLASS:PUBLIC
DTSTART:20260322T160000Z
DTEND:20260322T180000Z
DTSTAMP:20260420T113629Z
CREATED:20260216T101403Z
LAST-MODIFIED:20260317T221153Z
END:VEVENT
BEGIN:VEVENT
SUMMARY:Gemeinsamer Jugendgottesdienst
DESCRIPTION:<p>der Bezirke Ludwigsburg, Bietigheim, Bad Cannstatt und Fe
 llbach in <a href="http://www.nak-stuttgart-ludwigsburg.de/stuttgart-zu
 ffenhausen">Zuffenhausen</a></p>\n\n<p>&nbsp;</p>\n
UID:359189@www.nak-stuttgart-ludwigsburg.de
LOCATION:
CATEGORIES:Bezirk (und alle Gemeinden),Jugend
X-ORGANIZER:
STATUS:CONFIRMED
CLASS:PUBLIC
DTSTART:20260322T090000Z
DTEND:20260322T100000Z
DTSTAMP:20260420T113629Z
CREATED:20260216T101458Z
LAST-MODIFIED:20260216T101635Z
END:VEVENT
BEGIN:VEVENT
SUMMARY:Gottesdienst für Geistliche
DESCRIPTION:<p>in <a href="https://www.nak-stuttgart-ludwigsburg.de/frei
 berg-am-neckar">Freiberg</a></p>\n
UID:359190@www.nak-stuttgart-ludwigsburg.de
LOCATION:
CATEGORIES:Bezirk (und alle Gemeinden)
X-ORGANIZER:
STATUS:CONFIRMED
CLASS:PUBLIC
DTSTART:20260323T190000Z
DTEND:20260323T200000Z
DTSTAMP:20260420T113629Z
CREATED:20260216T101720Z
LAST-MODIFIED:20260216T101823Z
END:VEVENT
BEGIN:VEVENT
SUMMARY:Kammerchor-Probe
DESCRIPTION:<p>in <a href="https://www.nak-stuttgart-ludwigsburg.de/stut
 tgart-zuffenhausen">Zuffenhausen</a></p>\n
UID:359191@www.nak-stuttgart-ludwigsburg.de
LOCATION:
CATEGORIES:Musik,Bezirk (und alle Gemeinden)
X-ORGANIZER:
STATUS:CONFIRMED
CLASS:PUBLIC
DTSTART:20260516T073000Z
DTEND:20260516T123000Z
DTSTAMP:20260420T113629Z
CREATED:20260216T102051Z
LAST-MODIFIED:20260417T055757Z
END:VEVENT
BEGIN:VEVENT
SUMMARY:Kammerchor-Probe
DESCRIPTION:<p>in <a href="https://www.nak-stuttgart-ludwigsburg.de/stut
 tgart-zuffenhausen">Zuffenhausen</a></p>\n
UID:359192@www.nak-stuttgart-ludwigsburg.de
LOCATION:
CATEGORIES:Musik,Bezirk (und alle Gemeinden)
X-ORGANIZER:
STATUS:CONFIRMED
CLASS:PUBLIC
DTSTART:20260518T173000Z
DTEND:20260518T190000Z
DTSTAMP:20260420T113629Z
CREATED:20260216T102433Z
LAST-MODIFIED:20260417T055825Z
END:VEVENT
BEGIN:VEVENT
SUMMARY:Gottesdienst Ü 65
DESCRIPTION:<p>in <a href="https://www.nak-stuttgart-ludwigsburg.de/ludw
 igsburg">Ludwigsburg</a></p>\n
UID:363682@www.nak-stuttgart-ludwigsburg.de
LOCATION:
CATEGORIES:Bezirk (und alle Gemeinden)
X-ORGANIZER:
STATUS:CONFIRMED
CLASS:PUBLIC
DTSTART:20260503T073000Z
DTEND:20260503T090000Z
DTSTAMP:20260420T113629Z
CREATED:20260417T054200Z
LAST-MODIFIED:20260417T054322Z
END:VEVENT
BEGIN:VEVENT
SUMMARY:1. Abend Konfirmanden-Unterricht für Kinder und Eltern
DESCRIPTION:<p>in <a href="https://www.nak-stuttgart-ludwigsburg.de/frei
 berg-am-neckar">Freiberg&nbsp;</a></p>\n
UID:363683@www.nak-stuttgart-ludwigsburg.de
LOCATION:
CATEGORIES:Bezirk (und alle Gemeinden)
X-ORGANIZER:
STATUS:CONFIRMED
CLASS:PUBLIC
DTSTART:20260507T173000Z
DTEND:20260507T190000Z
DTSTAMP:20260420T113629Z
CREATED:20260417T054409Z
LAST-MODIFIED:20260417T054547Z
END:VEVENT
BEGIN:VEVENT
SUMMARY:Religions-Unterricht
DESCRIPTION:<p>für den ganzen Bezirk in <a href="http://www.nak-stuttga
 rt-ludwigsburg.de/ludwigsburg">Ludwigsburg</a></p>\n
UID:363684@www.nak-stuttgart-ludwigsburg.de
LOCATION:
CATEGORIES:Bezirk (und alle Gemeinden)
X-ORGANIZER:
STATUS:CONFIRMED
CLASS:PUBLIC
DTSTART:20260509T080000Z
DTEND:20260509T100000Z
DTSTAMP:20260420T113629Z
CREATED:20260417T054840Z
LAST-MODIFIED:20260417T054959Z
END:VEVENT
BEGIN:VEVENT
SUMMARY:Jugendchor-Probe
DESCRIPTION:<p>vor dem Jugendgottesdienst in <a href="http://www.nak-stu
 ttgart-ludwigsburg.de/freiberg-am-neckar">Freiberg</a></p>\n
UID:363685@www.nak-stuttgart-ludwigsburg.de
LOCATION:
CATEGORIES:Bezirk (und alle Gemeinden),Musik,Jugend
X-ORGANIZER:
STATUS:CONFIRMED
CLASS:PUBLIC
DTSTART:20260510T070000Z
DTEND:20260510T080000Z
DTSTAMP:20260420T113629Z
CREATED:20260417T055052Z
LAST-MODIFIED:20260417T055155Z
END:VEVENT
BEGIN:VEVENT
SUMMARY:Jugend-Gottesdienst
DESCRIPTION:<p>mit Begrüßung der Konfirmanden in <a href="https://www.
 nak-stuttgart-ludwigsburg.de/freiberg-am-neckar">Freiberg</a></p>\n
UID:363686@www.nak-stuttgart-ludwigsburg.de
LOCATION:
CATEGORIES:Bezirk (und alle Gemeinden),Jugend
X-ORGANIZER:
STATUS:CONFIRMED
CLASS:PUBLIC
DTSTART:20260510T081500Z
DTEND:20260510T100000Z
DTSTAMP:20260420T113629Z
CREATED:20260417T055204Z
LAST-MODIFIED:20260417T055328Z
END:VEVENT
BEGIN:VEVENT
SUMMARY:Bezirks-Kinder-Sonntag
DESCRIPTION:<p>in <a href="https://www.nak-stuttgart-ludwigsburg.de/ludw
 igsburg">Ludwigsburg</a></p>\n
UID:363687@www.nak-stuttgart-ludwigsburg.de
LOCATION:
CATEGORIES:Bezirk (und alle Gemeinden),Kinder
X-ORGANIZER:
STATUS:CONFIRMED
CLASS:PUBLIC
DTSTART:20260510T073000Z
DTEND:20260510T090000Z
DTSTAMP:20260420T113629Z
CREATED:20260417T055354Z
LAST-MODIFIED:20260417T055500Z
END:VEVENT
BEGIN:VEVENT
SUMMARY:Keine Gottesdienste
DESCRIPTION:
UID:363688@www.nak-stuttgart-ludwigsburg.de
LOCATION:
CATEGORIES:Bezirk (und alle Gemeinden)
X-ORGANIZER:
STATUS:CONFIRMED
CLASS:PUBLIC
DTSTART:20260513T180000Z
DTEND:20260513T190000Z
DTSTAMP:20260420T113629Z
CREATED:20260417T055512Z
LAST-MODIFIED:20260417T055551Z
END:VEVENT
BEGIN:VEVENT
SUMMARY:Gottesdienste zu Himmelfahrt 
DESCRIPTION:<p>in den Gemeinden, siehe jeweilige Gemeindepläne</p>\n
UID:363689@www.nak-stuttgart-ludwigsburg.de
LOCATION:
CATEGORIES:Bezirk (und alle Gemeinden)
X-ORGANIZER:
STATUS:CONFIRMED
CLASS:PUBLIC
DTSTART:20260514T073000Z
DTEND:20260514T090000Z
DTSTAMP:20260420T113629Z
CREATED:20260417T055603Z
LAST-MODIFIED:20260417T055701Z
END:VEVENT
BEGIN:VEVENT
SUMMARY:Konzert Kammerchor 
DESCRIPTION:<p>in der Bartholomäuskirche in Markgröningen, Musik zu Pf
 ingsten</p>\n
UID:363690@www.nak-stuttgart-ludwigsburg.de
LOCATION:
CATEGORIES:Bezirk (und alle Gemeinden)
X-ORGANIZER:
STATUS:CONFIRMED
CLASS:PUBLIC
DTSTART:20260523T170000Z
DTEND:20260523T190000Z
DTSTAMP:20260420T113629Z
CREATED:20260417T055833Z
LAST-MODIFIED:20260417T055940Z
END:VEVENT
BEGIN:VEVENT
SUMMARY:Konzert Kammerchor
DESCRIPTION:<p>in der Kirche in Filderstadt-Bonlanden, Musik zu Pfingste
 n</p>\n
UID:363691@www.nak-stuttgart-ludwigsburg.de
LOCATION:
CATEGORIES:Musik,Bezirk (und alle Gemeinden)
X-ORGANIZER:
STATUS:CONFIRMED
CLASS:PUBLIC
DTSTART:20260524T170000Z
DTEND:20260524T190000Z
DTSTAMP:20260420T113629Z
CREATED:20260417T055948Z
LAST-MODIFIED:20260417T060039Z
END:VEVENT
END:VCALENDAR
